BEGIN:VCALENDAR
VERSION:2.0
PRODID:-//VSA Giessen - ECPv6.15.19//NONSGML v1.0//EN
CALSCALE:GREGORIAN
METHOD:PUBLISH
X-ORIGINAL-URL:https://www.vsa-giessen.de
X-WR-CALDESC:Veranstaltungen für VSA Giessen
REFRESH-INTERVAL;VALUE=DURATION:PT1H
X-Robots-Tag:noindex
X-PUBLISHED-TTL:PT1H
BEGIN:VTIMEZONE
TZID:Europe/Berlin
BEGIN:DAYLIGHT
TZOFFSETFROM:+0100
TZOFFSETTO:+0200
TZNAME:CEST
DTSTART:20250330T010000
END:DAYLIGHT
BEGIN:STANDARD
TZOFFSETFROM:+0200
TZOFFSETTO:+0100
TZNAME:CET
DTSTART:20251026T010000
END:STANDARD
BEGIN:DAYLIGHT
TZOFFSETFROM:+0100
TZOFFSETTO:+0200
TZNAME:CEST
DTSTART:20260329T010000
END:DAYLIGHT
BEGIN:STANDARD
TZOFFSETFROM:+0200
TZOFFSETTO:+0100
TZNAME:CET
DTSTART:20261025T010000
END:STANDARD
BEGIN:DAYLIGHT
TZOFFSETFROM:+0100
TZOFFSETTO:+0200
TZNAME:CEST
DTSTART:20270328T010000
END:DAYLIGHT
BEGIN:STANDARD
TZOFFSETFROM:+0200
TZOFFSETTO:+0100
TZNAME:CET
DTSTART:20271031T010000
END:STANDARD
END:VTIMEZONE
BEGIN:VEVENT
DTSTART;TZID=Europe/Berlin:20261212T140000
DTEND;TZID=Europe/Berlin:20261212T160000
DTSTAMP:20260422T054501
CREATED:20250313T092854Z
LAST-MODIFIED:20260102T210700Z
UID:961-1797084000-1797091200@www.vsa-giessen.de
SUMMARY:Jahresabschluss - Jugend
DESCRIPTION:Die Jugendgruppe trifft sich\, um einen Rückblick auf das vergangene Jahr zu werfen\, zu wichteln und einen Ausblick auf die Veranstaltungen im kommenden Jahr zu machen.
URL:https://www.vsa-giessen.de/event/jahresabschluss-2025-jugend/
LOCATION:Vereinsheim\, Kornblumenstraße 20\, Gießen\, Hessen\, 35396\, Deutschland
CATEGORIES:VSA Jugendgruppe
ATTACH;FMTTYPE=image/jpeg:https://www.vsa-giessen.de/wp-content/uploads/2024/01/20231209_114034-scaled.jpg
ORGANIZER;CN="VSA Jugendgruppe":MAILTO:jugendpflege@vsa-giessen.de
END:VEVENT
END:VCALENDAR