BEGIN:VCALENDAR
VERSION:2.0
PRODID:-//VSA Giessen - ECPv6.15.19//NONSGML v1.0//EN
CALSCALE:GREGORIAN
METHOD:PUBLISH
X-ORIGINAL-URL:https://www.vsa-giessen.de
X-WR-CALDESC:Veranstaltungen für VSA Giessen
REFRESH-INTERVAL;VALUE=DURATION:PT1H
X-Robots-Tag:noindex
X-PUBLISHED-TTL:PT1H
BEGIN:VTIMEZONE
TZID:Europe/Berlin
BEGIN:DAYLIGHT
TZOFFSETFROM:+0100
TZOFFSETTO:+0200
TZNAME:CEST
DTSTART:20250330T010000
END:DAYLIGHT
BEGIN:STANDARD
TZOFFSETFROM:+0200
TZOFFSETTO:+0100
TZNAME:CET
DTSTART:20251026T010000
END:STANDARD
BEGIN:DAYLIGHT
TZOFFSETFROM:+0100
TZOFFSETTO:+0200
TZNAME:CEST
DTSTART:20260329T010000
END:DAYLIGHT
BEGIN:STANDARD
TZOFFSETFROM:+0200
TZOFFSETTO:+0100
TZNAME:CET
DTSTART:20261025T010000
END:STANDARD
BEGIN:DAYLIGHT
TZOFFSETFROM:+0100
TZOFFSETTO:+0200
TZNAME:CEST
DTSTART:20270328T010000
END:DAYLIGHT
BEGIN:STANDARD
TZOFFSETFROM:+0200
TZOFFSETTO:+0100
TZNAME:CET
DTSTART:20271031T010000
END:STANDARD
END:VTIMEZONE
BEGIN:VEVENT
DTSTART;TZID=Europe/Berlin:20260124T140000
DTEND;TZID=Europe/Berlin:20260124T160000
DTSTAMP:20260421T231057
CREATED:20250102T113020Z
LAST-MODIFIED:20260102T205220Z
UID:911-1769263200-1769270400@www.vsa-giessen.de
SUMMARY:Gerätekunde - Jugend
DESCRIPTION:Eine Übersicht der Angelgeräte\, die wir uns in diesem Kurs anschauen werden: \n\nRutenarten\nRollenarten\nKescher und Co.\nZange\, Hakenlöser\, Messer\, …
URL:https://www.vsa-giessen.de/event/geraetekunde-jugend-2/
LOCATION:Vereinsheim\, Kornblumenstraße 20\, Gießen\, Hessen\, 35396\, Deutschland
CATEGORIES:VSA Jugendgruppe
ATTACH;FMTTYPE=image/jpeg:https://www.vsa-giessen.de/wp-content/uploads/2023/11/20230226_152429-scaled.jpg
ORGANIZER;CN="VSA Jugendgruppe":MAILTO:jugendpflege@vsa-giessen.de
END:VEVENT
END:VCALENDAR