BEGIN:VCALENDAR
VERSION:2.0
PRODID:-//VSA Giessen - ECPv6.15.19//NONSGML v1.0//EN
CALSCALE:GREGORIAN
METHOD:PUBLISH
X-WR-CALNAME:VSA Giessen
X-ORIGINAL-URL:https://www.vsa-giessen.de
X-WR-CALDESC:Veranstaltungen für VSA Giessen
REFRESH-INTERVAL;VALUE=DURATION:PT1H
X-Robots-Tag:noindex
X-PUBLISHED-TTL:PT1H
BEGIN:VTIMEZONE
TZID:Europe/Berlin
BEGIN:DAYLIGHT
TZOFFSETFROM:+0100
TZOFFSETTO:+0200
TZNAME:CEST
DTSTART:20230326T010000
END:DAYLIGHT
BEGIN:STANDARD
TZOFFSETFROM:+0200
TZOFFSETTO:+0100
TZNAME:CET
DTSTART:20231029T010000
END:STANDARD
BEGIN:DAYLIGHT
TZOFFSETFROM:+0100
TZOFFSETTO:+0200
TZNAME:CEST
DTSTART:20240331T010000
END:DAYLIGHT
BEGIN:STANDARD
TZOFFSETFROM:+0200
TZOFFSETTO:+0100
TZNAME:CET
DTSTART:20241027T010000
END:STANDARD
BEGIN:DAYLIGHT
TZOFFSETFROM:+0100
TZOFFSETTO:+0200
TZNAME:CEST
DTSTART:20250330T010000
END:DAYLIGHT
BEGIN:STANDARD
TZOFFSETFROM:+0200
TZOFFSETTO:+0100
TZNAME:CET
DTSTART:20251026T010000
END:STANDARD
END:VTIMEZONE
BEGIN:VEVENT
DTSTART;TZID=Europe/Berlin:20240914T050000
DTEND;TZID=Europe/Berlin:20240914T190000
DTSTAMP:20260423T020950
CREATED:20231117T091117Z
LAST-MODIFIED:20240907T084823Z
UID:948-1726290000-1726340400@www.vsa-giessen.de
SUMMARY:Bootsangeln Edersee - Jugend
DESCRIPTION:Am 14. September 2024 werden wir mit der Jugendgruppe am Edersee angeln. Wir haben dazu 5 Angelboote gemietet. Auf jedem Boot finden 1 Erwachsener als Betreuer und 2 Jugendliche Platz.\nWir werden mit der Spinnrute auf Barsche\, Zander und Hechte fischen.\nIhr könnt dazu alle Arten von Kunstködern einsetzen\, also z.B. Spinner\, Blinker\, Jig-Spinner\, Soft Lures wie Shads (Gummifische)\, Twister am Bleikopf. \nWir treffen uns morgens am VSA See bei den Garagen und fahren von dort gemeinsam an den Edersee. \nDer Verein bezahlt die Angelboote sowie die Tageskarten für die Jugendlichen und Betreuer.\nIch finde\, dass ist nicht selbstverständlich\, vielen Dank dafür an unsere Vorsitzenden!\nWer möchte kann sich jedoch gerne mit einer kleinen Spende an den Kosten beteiligen. \nAblauf der Veranstaltung\n\n05:00Uhr: Abfahrt an den Garagen am VSA See\n06:30Uhr: Ankunft am Edersee\, Übernahme der Boote\nAngeln\, Angeln\, Angeln\n12:00Uhr: Mittagspause\nAngeln\, Angeln\, Angeln\n17:30Uhr: Heimreise (ggf. auch später\, entscheiden wir gemeinsam vor Ort)\n\nCheckliste (bitte mitbringen)\n\nAngelpapiere (ganz wichtig!)\nSchwimmweste\, sofern vorhanden\nMax. 2 Ruten und Kescher (es wird nur ein kurzer Kescher pro Boot benötigt)\nKunstköder und Zubehör (Wirbel\, Stahlvorfächer\, Fluorcarbon Vorfach)\nHakenlöser\, Fischtöter\, Bandmaß und Waage\, sofern vorhanden\nWechselkleidung\, der Witterung entsprechend\nGetränke und Essen für zwischendurch\nEtwas Geld\n\n  \nPetri Heil & Grüße\nThomas Knorr\n– Jugendwart –
URL:https://www.vsa-giessen.de/event/bootsangeln-edersee-jugend/
LOCATION:Edersee\, Parkplatz\, 622X+FM Waldeck
CATEGORIES:VSA Jugendgruppe
ATTACH;FMTTYPE=image/jpeg:https://www.vsa-giessen.de/wp-content/uploads/2023/06/20230610_082052-scaled.jpg
ORGANIZER;CN="VSA Jugendgruppe":MAILTO:jugendpflege@vsa-giessen.de
END:VEVENT
END:VCALENDAR