BEGIN:VCALENDAR
VERSION:2.0
PRODID:-//VSA Giessen - ECPv6.15.19//NONSGML v1.0//EN
CALSCALE:GREGORIAN
METHOD:PUBLISH
X-ORIGINAL-URL:https://www.vsa-giessen.de
X-WR-CALDESC:Veranstaltungen für VSA Giessen
REFRESH-INTERVAL;VALUE=DURATION:PT1H
X-Robots-Tag:noindex
X-PUBLISHED-TTL:PT1H
BEGIN:VTIMEZONE
TZID:Europe/Berlin
BEGIN:DAYLIGHT
TZOFFSETFROM:+0100
TZOFFSETTO:+0200
TZNAME:CEST
DTSTART:20250330T010000
END:DAYLIGHT
BEGIN:STANDARD
TZOFFSETFROM:+0200
TZOFFSETTO:+0100
TZNAME:CET
DTSTART:20251026T010000
END:STANDARD
BEGIN:DAYLIGHT
TZOFFSETFROM:+0100
TZOFFSETTO:+0200
TZNAME:CEST
DTSTART:20260329T010000
END:DAYLIGHT
BEGIN:STANDARD
TZOFFSETFROM:+0200
TZOFFSETTO:+0100
TZNAME:CET
DTSTART:20261025T010000
END:STANDARD
BEGIN:DAYLIGHT
TZOFFSETFROM:+0100
TZOFFSETTO:+0200
TZNAME:CEST
DTSTART:20270328T010000
END:DAYLIGHT
BEGIN:STANDARD
TZOFFSETFROM:+0200
TZOFFSETTO:+0100
TZNAME:CET
DTSTART:20271031T010000
END:STANDARD
END:VTIMEZONE
BEGIN:VEVENT
DTSTART;TZID=Europe/Berlin:20260803T100000
DTEND;TZID=Europe/Berlin:20260803T140000
DTSTAMP:20260422T002620
CREATED:20250313T082116Z
LAST-MODIFIED:20260102T210350Z
UID:937-1785751200-1785765600@www.vsa-giessen.de
SUMMARY:Ferienspiele I - VSA - Stadt Gießen
DESCRIPTION:Auch in diesem Jahr beteiligen wir uns mit zwei Terminen zum Schnupperangeln am Ferienspielprogramm der Stadt Gießen.
URL:https://www.vsa-giessen.de/event/ferienspiele-i-vsa-stadt-giessen/
LOCATION:VSA Angelsee Heuchelheim\, 50.56783\, 8.628472
CATEGORIES:VSA Jugendgruppe
ATTACH;FMTTYPE=image/jpeg:https://www.vsa-giessen.de/wp-content/uploads/2022/09/20220729_093722-scaled.jpg
ORGANIZER;CN="VSA Jugendgruppe":MAILTO:jugendpflege@vsa-giessen.de
END:VEVENT
BEGIN:VEVENT
DTSTART;TZID=Europe/Berlin:20260804T100000
DTEND;TZID=Europe/Berlin:20260804T140000
DTSTAMP:20260422T002620
CREATED:20250313T082449Z
LAST-MODIFIED:20260102T210318Z
UID:939-1785837600-1785852000@www.vsa-giessen.de
SUMMARY:Ferienspiele II - VSA - Stadt Gießen
DESCRIPTION:Auch in diesem Jahr beteiligen wir uns mit zwei Terminen zum Schnupperangeln am Ferienspielprogramm der Stadt Gießen.
URL:https://www.vsa-giessen.de/event/ferienspiele-ii-vsa-stadt-giessen/
LOCATION:VSA Angelsee Heuchelheim\, 50.56783\, 8.628472
CATEGORIES:VSA Jugendgruppe
ATTACH;FMTTYPE=image/jpeg:https://www.vsa-giessen.de/wp-content/uploads/2022/10/IMG-20221022-WA0001-edited.jpg
ORGANIZER;CN="VSA Jugendgruppe":MAILTO:jugendpflege@vsa-giessen.de
END:VEVENT
BEGIN:VEVENT
DTSTART;TZID=Europe/Berlin:20260829T150000
DTEND;TZID=Europe/Berlin:20260830T120000
DTSTAMP:20260422T002620
CREATED:20231117T090911Z
LAST-MODIFIED:20260102T210534Z
UID:946-1788015600-1788091200@www.vsa-giessen.de
SUMMARY:Karpfen Camp beim ASV Butzbach e.V. - Jugend
DESCRIPTION:Der ASV Butzbach e.V. lädt uns zu seinem diesjährigen Jugend Karpfen Camp an ihrem Vereinsteich in Butzbach – Griedel ein. Der Teich ist gut besetzt mit Karpfen\, Schleien\, Weißfischen\, Barschen und Hechten. Auf dem Teichgelände befindet sich eine Schutzhütte\, nur wenige Meter entfernt ist das Anglerheim mit Versammlungsraum\, Küche und WCs. Die Veranstaltung beginnt am Samstag um 15:00Uhr und endet am Sonntag ebenfalls gegen 12:00Uhr. Für Verpflegung und Getränke wird gesorgt. \nNach der Abfahrt von der Landstraße zwischen Griedel und Gambach ist gleich links der Parkplatz des ASV Butzbach. Hier treffen wir uns (nicht an den Garagen am VSA See!).
URL:https://www.vsa-giessen.de/event/karpfen-camp-beim-asv-butzbach/
LOCATION:ASV Butzbach e.V. Teich & Vereinsheim\, CPW6+W6 Butzbach\, Deutschland
CATEGORIES:VSA Jugendgruppe
ATTACH;FMTTYPE=image/jpeg:https://www.vsa-giessen.de/wp-content/uploads/2023/11/teich_griedel_1-980x370-1.jpg
ORGANIZER;CN="VSA Jugendgruppe":MAILTO:jugendpflege@vsa-giessen.de
END:VEVENT
END:VCALENDAR