BEGIN:VCALENDAR
VERSION:2.0
PRODID:-//VSA Giessen - ECPv6.15.19//NONSGML v1.0//EN
CALSCALE:GREGORIAN
METHOD:PUBLISH
X-ORIGINAL-URL:https://www.vsa-giessen.de
X-WR-CALDESC:Veranstaltungen für VSA Giessen
REFRESH-INTERVAL;VALUE=DURATION:PT1H
X-Robots-Tag:noindex
X-PUBLISHED-TTL:PT1H
BEGIN:VTIMEZONE
TZID:Europe/Berlin
BEGIN:DAYLIGHT
TZOFFSETFROM:+0100
TZOFFSETTO:+0200
TZNAME:CEST
DTSTART:20240331T010000
END:DAYLIGHT
BEGIN:STANDARD
TZOFFSETFROM:+0200
TZOFFSETTO:+0100
TZNAME:CET
DTSTART:20241027T010000
END:STANDARD
BEGIN:DAYLIGHT
TZOFFSETFROM:+0100
TZOFFSETTO:+0200
TZNAME:CEST
DTSTART:20250330T010000
END:DAYLIGHT
BEGIN:STANDARD
TZOFFSETFROM:+0200
TZOFFSETTO:+0100
TZNAME:CET
DTSTART:20251026T010000
END:STANDARD
BEGIN:DAYLIGHT
TZOFFSETFROM:+0100
TZOFFSETTO:+0200
TZNAME:CEST
DTSTART:20260329T010000
END:DAYLIGHT
BEGIN:STANDARD
TZOFFSETFROM:+0200
TZOFFSETTO:+0100
TZNAME:CET
DTSTART:20261025T010000
END:STANDARD
END:VTIMEZONE
BEGIN:VEVENT
DTSTART;VALUE=DATE:20251101
DTEND;VALUE=DATE:20251201
DTSTAMP:20260421T225153
CREATED:20250330T113405Z
LAST-MODIFIED:20250330T113449Z
UID:1394-1761955200-1764547199@www.vsa-giessen.de
SUMMARY:6. Arbeitseinsatz 2025
DESCRIPTION:Termin und Einsatzort sind noch offen. \nDie Einladung erfolgt\, wie gewohnt\, per E-Mail bzw. Post.
URL:https://www.vsa-giessen.de/event/6-arbeitseinsatz-2025/
LOCATION:Hessen
CATEGORIES:VSA Arbeitseinsatz
END:VEVENT
END:VCALENDAR