BEGIN:VCALENDAR
VERSION:2.0
PRODID:-//VSA Giessen - ECPv6.15.19//NONSGML v1.0//EN
CALSCALE:GREGORIAN
METHOD:PUBLISH
X-ORIGINAL-URL:https://www.vsa-giessen.de
X-WR-CALDESC:Veranstaltungen für VSA Giessen
REFRESH-INTERVAL;VALUE=DURATION:PT1H
X-Robots-Tag:noindex
X-PUBLISHED-TTL:PT1H
BEGIN:VTIMEZONE
TZID:Europe/Berlin
BEGIN:DAYLIGHT
TZOFFSETFROM:+0100
TZOFFSETTO:+0200
TZNAME:CEST
DTSTART:20240331T010000
END:DAYLIGHT
BEGIN:STANDARD
TZOFFSETFROM:+0200
TZOFFSETTO:+0100
TZNAME:CET
DTSTART:20241027T010000
END:STANDARD
BEGIN:DAYLIGHT
TZOFFSETFROM:+0100
TZOFFSETTO:+0200
TZNAME:CEST
DTSTART:20250330T010000
END:DAYLIGHT
BEGIN:STANDARD
TZOFFSETFROM:+0200
TZOFFSETTO:+0100
TZNAME:CET
DTSTART:20251026T010000
END:STANDARD
BEGIN:DAYLIGHT
TZOFFSETFROM:+0100
TZOFFSETTO:+0200
TZNAME:CEST
DTSTART:20260329T010000
END:DAYLIGHT
BEGIN:STANDARD
TZOFFSETFROM:+0200
TZOFFSETTO:+0100
TZNAME:CET
DTSTART:20261025T010000
END:STANDARD
END:VTIMEZONE
BEGIN:VEVENT
DTSTART;TZID=Europe/Berlin:20251025T094500
DTEND;TZID=Europe/Berlin:20251025T140000
DTSTAMP:20260422T000618
CREATED:20250330T113203Z
LAST-MODIFIED:20250330T113203Z
UID:1392-1761385500-1761400800@www.vsa-giessen.de
SUMMARY:5. Arbeitseinsatz 2025 (Option 2)
DESCRIPTION:Dieser Arbeitseinsatz findet entweder am 18. oder am 25.10.\, in Roth statt. \nDie Einladung erfolgt\, wie gewohnt\, per E-Mail bzw. Post.
URL:https://www.vsa-giessen.de/event/5-arbeitseinsatz-2025-option-2/
LOCATION:Lahn zwischen Wolfshausen und Bellnhausen\, PPGG+547 Weimar (Lahn)\, Hessen\, Germany
CATEGORIES:VSA Arbeitseinsatz
END:VEVENT
END:VCALENDAR