BEGIN:VCALENDAR
VERSION:2.0
PRODID:-//VSA Giessen - ECPv6.15.19//NONSGML v1.0//EN
CALSCALE:GREGORIAN
METHOD:PUBLISH
X-WR-CALNAME:VSA Giessen
X-ORIGINAL-URL:https://www.vsa-giessen.de
X-WR-CALDESC:Veranstaltungen für VSA Giessen
REFRESH-INTERVAL;VALUE=DURATION:PT1H
X-Robots-Tag:noindex
X-PUBLISHED-TTL:PT1H
BEGIN:VTIMEZONE
TZID:Europe/Berlin
BEGIN:DAYLIGHT
TZOFFSETFROM:+0100
TZOFFSETTO:+0200
TZNAME:CEST
DTSTART:20250330T010000
END:DAYLIGHT
BEGIN:STANDARD
TZOFFSETFROM:+0200
TZOFFSETTO:+0100
TZNAME:CET
DTSTART:20251026T010000
END:STANDARD
BEGIN:DAYLIGHT
TZOFFSETFROM:+0100
TZOFFSETTO:+0200
TZNAME:CEST
DTSTART:20260329T010000
END:DAYLIGHT
BEGIN:STANDARD
TZOFFSETFROM:+0200
TZOFFSETTO:+0100
TZNAME:CET
DTSTART:20261025T010000
END:STANDARD
BEGIN:DAYLIGHT
TZOFFSETFROM:+0100
TZOFFSETTO:+0200
TZNAME:CEST
DTSTART:20270328T010000
END:DAYLIGHT
BEGIN:STANDARD
TZOFFSETFROM:+0200
TZOFFSETTO:+0100
TZNAME:CET
DTSTART:20271031T010000
END:STANDARD
END:VTIMEZONE
BEGIN:VEVENT
DTSTART;TZID=Europe/Berlin:20260502T100000
DTEND;TZID=Europe/Berlin:20260502T180000
DTSTAMP:20260421T113524
CREATED:20250312T075814Z
LAST-MODIFIED:20260102T205943Z
UID:1346-1777716000-1777744800@www.vsa-giessen.de
SUMMARY:Feedern & Posenfischen am See - Jugend
DESCRIPTION:Wir fischen am VSA See mit der Pose und dem Futterkörbchen. Ihr könnt dabei wahlweise mit Pose\, Futterkörbchen oder beidem angeln. Als Köder bieten sich z.B. Mais\, Maden und kleine Würmer an.\nFutterkörbchen\, Posen\, ein paar Köder und Futter bringe ich mit\, ihr müsst deswegen nicht unbedingt ins Angelgeschäft einkaufen gehen. Es gibt etwas zu Mittag\, lasst euch überraschen 😊 \nAblauf der Veranstaltung\n\n10:00Uhr: Treffen an den Garagen am VSA See (siehe Link unten)\nBegrüßung und Ansprache durch den Jugendwart\nAngeln\, Angeln\, Angeln\n14:00Uhr: Mittagspause\, Begutachtung der ersten Fänge\, Austausch von Angeltips\nAngeln\, Angeln\, Angeln\n18:00Uhr: Begutachtung der Fänge und offizielles Ende der Veranstaltung\n\nCheckliste (bitte mitbringen)\n\nAngelpapiere (ganz wichtig!)\nPassende Ruten\, ggf. Rodpot oder Rutenständer\, Kescher\nKöder (Mais\, Maden\, Würmer\, ggf. Miniboilies zum Feedern)\nStippfutter oder Feederfutter und einen Eimer zum Anmischen\nZubehör\, Hakenlöser\, Fischtöter\, Bandmaß und Waage\, sofern vorhanden\nStuhl\, Angelschirm\, Wechselkleidung\, ggf. Gummistiefel\, der Witterung entsprechend\nGetränke und Essen für zwischendurch\n\nEuer Jugendwart\nThomas
URL:https://www.vsa-giessen.de/event/feedern-posenfischen-am-see/
LOCATION:VSA Angelsee Heuchelheim\, 50.56783\, 8.628472
CATEGORIES:VSA Jugendgruppe
ATTACH;FMTTYPE=image/jpeg:https://www.vsa-giessen.de/wp-content/uploads/2023/08/20230727_141840-scaled.jpg
END:VEVENT
BEGIN:VEVENT
DTSTART;TZID=Europe/Berlin:20260604T120000
DTEND;TZID=Europe/Berlin:20260607T120000
DTSTAMP:20260421T113524
CREATED:20250313T092857Z
LAST-MODIFIED:20260102T210027Z
UID:1349-1780574400-1780833600@www.vsa-giessen.de
SUMMARY:Jugendcamp am VSA See - Jugend
DESCRIPTION:Alle Jahre wieder treffen wir uns mit den Jugendgruppen unserer Nachbarvereine zu einer gemeinsamen Angelfreizeit an unserem See und der Lahn bei Gießen. \nDer Kostenbeitrag pro Person beträgt 30\,00€.\nDarin enthalten sind die Angellizenzen sowie Getränke und Verpflegung\, All Inclusive sozusagen. \nMit Terminen\, Schulungen\, etc. hatte es unser Nachwuchs bei den letzten Camps nicht wirklich\, die wollten einfach angeln\, Boot fahren und Fische fangen.\nVon daher planen wir neben freiem Fischen am See und der Lahn\, Bootsangeln\, ein Kurs im Fliegenfischen und ggf. ein Castingwettbewerb\, falls jemand eine\nPetrischeibe besorgen kann. Castinggewichte haben wir. \nWir haben vor Ort \n\nStrom und Kühl- sowie Gefrierschränke zu Lagerung von Lebensmitteln und den Fängen\n2 Dixi Toiletten\nMin. 1 schweres Aluboot mit Motor\, ein paar Schwimmwesten für die Kinder sind ebenfalls vorhanden. Eigene Boote könnt ihr gerne mitbringen.\nEin großes Zelt\, Zeltgarnituren Grill\, Gasgrill und Kochmöglichkeiten\nEssen und Getränke\nKöder und Futter in begrenzter Menge für die Jugendlichen\n\nIhr müsst mitbringen \n\nAngelpapiere (ganz wichtig!)\nDen Kostenbeitrag\, ggf. etwas Taschengeld\nEine Trinkflasche. Wir werden Wasser und Apfelschorle in großen Flaschen besorgen. Das könnt ihr dann in eure Trinkflaschen umfüllen.\nGgf. Snacks\, eigene Getränke\nEuere Angelsachen\nZelte\, Liegen\, etc.\nEigene Köder\, Futter\, etc.\nGgf. eigene Getränke und Lebensmittel\nKleidung und Schuhe zum Wechseln\nToilettenpapier\, Seife\, und sonstige Hygieneartikel\nMedikamente und Notfallmedikamente\, sofern nötig\nInsektenschutzmittel (Antibrum\, Authan\, etc.)\nSonnenschutzmittel\n\nIn unmittelbarer Nähe ist der Globusmarkt in Dudenhofen\, da können wir uns mit allem versorgen\, was wir brauchen. \nWir freuen uns auf tolle Tage am Wasser und wünschen den teilnehmenden Junganglern viel Erfolg und Spaß!
URL:https://www.vsa-giessen.de/event/jugendcamp-am-vsa-see/
LOCATION:VSA Angelsee Heuchelheim\, 50.56783\, 8.628472
CATEGORIES:VSA Jugendgruppe
ATTACH;FMTTYPE=image/jpeg:https://www.vsa-giessen.de/wp-content/uploads/2022/11/DSC06570.jpg
END:VEVENT
BEGIN:VEVENT
DTSTART;TZID=Europe/Berlin:20260704T120000
DTEND;TZID=Europe/Berlin:20260705T120000
DTSTAMP:20260421T113524
CREATED:20250313T093040Z
LAST-MODIFIED:20260102T210115Z
UID:1351-1783166400-1783252800@www.vsa-giessen.de
SUMMARY:Die Nacht der Karpfen - Jugend
DESCRIPTION:Wir treffen uns zum Karpfenangeln am VSA See. Es bieten sich dazu alle Arten von Friedfischködern\, wie Mais\, Wurm\, Made\, Boilies\, oder Pellets an. \nAblauf der Veranstaltung\n\n12:00Uhr: Treffen am See (siehe Link unten)\nBegrüßung und Ansprache durch den Jugendwart\nAngeln\, Angeln\, Angeln\n19:00Uhr: Abendessen\, Begutachtung der ersten Fänge\, Austausch von Angeltips\nAngeln\, Angeln\, Angeln\n10:00Uhr: Frühstück\, Begutachtung der Fänge und offizielles Ende der Veranstaltung\n\nCheckliste (bitte mitbringen)\n\nAngelpapiere (ganz wichtig!)\nPassende Ruten\, ggf. Rodpot oder Rutenständer\, Kescher\nKöder\nZubehör\, Hakenlöser\, Fischtöter\, Bandmaß und Waage\, Abhakmatte\, sofern vorhanden\nGgf. Stuhl\, Angelschirm\, Wechselkleidung\, der Witterung entsprechend\nFeste Schuhe oder Gummistiefel\nGetränke und Essen für das Abendessen und Frühstück
URL:https://www.vsa-giessen.de/event/die-nacht-der-karpfen-jugend/
LOCATION:VSA Angelsee Heuchelheim\, 50.56783\, 8.628472
CATEGORIES:VSA Jugendgruppe
ATTACH;FMTTYPE=image/jpeg:https://www.vsa-giessen.de/wp-content/uploads/2024/08/20240817_184012-1-scaled.jpg
END:VEVENT
BEGIN:VEVENT
DTSTART;TZID=Europe/Berlin:20260718T150000
DTEND;TZID=Europe/Berlin:20260719T100000
DTSTAMP:20260421T113524
CREATED:20250713T183535Z
LAST-MODIFIED:20260102T210215Z
UID:1354-1784386800-1784455200@www.vsa-giessen.de
SUMMARY:Die Nacht der Leuchtposen - Jugend
DESCRIPTION:Wir treffen uns zum Nachtangeln mit Leuchtposen am VSA See. \nAblauf der Veranstaltung\n\n15:00Uhr: Treffen am See (siehe Link unten)\nBegrüßung und Ansprache durch den Jugendwart\nAngeln\, Angeln\, Angeln\n19:00Uhr: Abendessen\, Begutachtung der ersten Fänge\, Austausch von Angeltips\nAngeln\, Angeln\, Angeln\n10:00Uhr: Frühstück\, Begutachtung der Fänge und offizielles Ende der Veranstaltung\n\nCheckliste (bitte mitbringen)\n\nAngelpapiere (ganz wichtig!)\nPassende Ruten\, ggf. Rodpot oder Rutenständer\, Kescher\nKöder (Tauwürmer\, Maden zum Köderfischstippen)\nZubehör\, Hakenlöser\, Fischtöter\, Bandmaß und Waage\, Abhakmatte\, sofern vorhanden\nGgf. Stuhl\, Angelschirm\, Wechselkleidung\, der Witterung entsprechend\nFeste Schuhe oder Gummistiefel\nGetränke und Essen für das Abendessen und Frühstück
URL:https://www.vsa-giessen.de/event/die-nacht-der-aale-jugend/
LOCATION:VSA Angelsee Heuchelheim\, 50.56783\, 8.628472
CATEGORIES:VSA Jugendgruppe
ATTACH;FMTTYPE=image/jpeg:https://www.vsa-giessen.de/wp-content/uploads/2023/08/20230728_120033-1-scaled.jpg
END:VEVENT
BEGIN:VEVENT
DTSTART;TZID=Europe/Berlin:20260801T150000
DTEND;TZID=Europe/Berlin:20260802T100000
DTSTAMP:20260421T113524
CREATED:20250313T093749Z
LAST-MODIFIED:20260102T210244Z
UID:1356-1785596400-1785664800@www.vsa-giessen.de
SUMMARY:Die Nacht der Zander - Jugend
DESCRIPTION:Wir treffen uns zum Zanderangeln am VSA See. \nAblauf der Veranstaltung\n\n15:00Uhr: Treffen am See (siehe Link unten)\nBegrüßung und Ansprache durch den Jugendwart\nAngeln\, Angeln\, Angeln\n19:00Uhr: Abendessen\, Begutachtung der ersten Fänge\, Austausch von Angeltips\nAngeln\, Angeln\, Angeln\n10:00Uhr: Frühstück\, Begutachtung der Fänge und offizielles Ende der Veranstaltung\n\nCheckliste (bitte mitbringen)\n\nAngelpapiere (ganz wichtig!)\nPassende Ruten\, ggf. Rodpot oder Rutenständer\, Kescher\nWer möchte eine Spinnrute mit Gummifisch\, Wobbler\, Spiner\nKöder (Tauwürmer\, Maden zum Köderfischstippen)\nZubehör\, Hakenlöser\, Fischtöter\, Bandmaß und Waage\, Abhakmatte\, sofern vorhanden\nGgf. Stuhl\, Angelschirm\, Wechselkleidung\, der Witterung entsprechend\nFeste Schuhe oder Gummistiefel\nGetränke und Essen für das Abendessen und Frühstück
URL:https://www.vsa-giessen.de/event/die-nacht-der-zander-jugend/
LOCATION:VSA Angelsee Heuchelheim\, 50.56783\, 8.628472
CATEGORIES:VSA Jugendgruppe
ATTACH;FMTTYPE=image/jpeg:https://www.vsa-giessen.de/wp-content/uploads/2023/05/20230520_172912-scaled.jpg
END:VEVENT
BEGIN:VEVENT
DTSTART;TZID=Europe/Berlin:20260803T100000
DTEND;TZID=Europe/Berlin:20260803T140000
DTSTAMP:20260421T113524
CREATED:20250313T082116Z
LAST-MODIFIED:20260102T210350Z
UID:937-1785751200-1785765600@www.vsa-giessen.de
SUMMARY:Ferienspiele I - VSA - Stadt Gießen
DESCRIPTION:Auch in diesem Jahr beteiligen wir uns mit zwei Terminen zum Schnupperangeln am Ferienspielprogramm der Stadt Gießen.
URL:https://www.vsa-giessen.de/event/ferienspiele-i-vsa-stadt-giessen/
LOCATION:VSA Angelsee Heuchelheim\, 50.56783\, 8.628472
CATEGORIES:VSA Jugendgruppe
ATTACH;FMTTYPE=image/jpeg:https://www.vsa-giessen.de/wp-content/uploads/2022/09/20220729_093722-scaled.jpg
ORGANIZER;CN="VSA Jugendgruppe":MAILTO:jugendpflege@vsa-giessen.de
END:VEVENT
BEGIN:VEVENT
DTSTART;TZID=Europe/Berlin:20260804T100000
DTEND;TZID=Europe/Berlin:20260804T140000
DTSTAMP:20260421T113524
CREATED:20250313T082449Z
LAST-MODIFIED:20260102T210318Z
UID:939-1785837600-1785852000@www.vsa-giessen.de
SUMMARY:Ferienspiele II - VSA - Stadt Gießen
DESCRIPTION:Auch in diesem Jahr beteiligen wir uns mit zwei Terminen zum Schnupperangeln am Ferienspielprogramm der Stadt Gießen.
URL:https://www.vsa-giessen.de/event/ferienspiele-ii-vsa-stadt-giessen/
LOCATION:VSA Angelsee Heuchelheim\, 50.56783\, 8.628472
CATEGORIES:VSA Jugendgruppe
ATTACH;FMTTYPE=image/jpeg:https://www.vsa-giessen.de/wp-content/uploads/2022/10/IMG-20221022-WA0001-edited.jpg
ORGANIZER;CN="VSA Jugendgruppe":MAILTO:jugendpflege@vsa-giessen.de
END:VEVENT
BEGIN:VEVENT
DTSTART;TZID=Europe/Berlin:20260815T160000
DTEND;TZID=Europe/Berlin:20260815T220000
DTSTAMP:20260421T113524
CREATED:20260208T121317Z
LAST-MODIFIED:20260208T123539Z
UID:1067-1786809600-1786831200@www.vsa-giessen.de
SUMMARY:Seefest des VSA Giessen
DESCRIPTION:Auch in diesem Jahr findet unser Seefest am VSA Angelsee statt. Weitere Informationen erfolgen zu gegebener Zeit per E-Mail/Post.
URL:https://www.vsa-giessen.de/event/seefest-des-vsa-giessen-2/
LOCATION:VSA Angelsee Heuchelheim\, 50.56783\, 8.628472
CATEGORIES:VSA Event
ATTACH;FMTTYPE=image/jpeg:https://www.vsa-giessen.de/wp-content/uploads/2023/08/WhatsApp-Bild-2023-08-18-um-12.57.34.jpg
ORGANIZER;CN="VSA Gie%C3%9Fen und Umgebung e.V.":MAILTO:info@vsa-giessen.de
END:VEVENT
BEGIN:VEVENT
DTSTART;TZID=Europe/Berlin:20260822T120000
DTEND;TZID=Europe/Berlin:20260823T120000
DTSTAMP:20260421T113524
CREATED:20260208T093951Z
LAST-MODIFIED:20260208T123851Z
UID:1358-1787400000-1787486400@www.vsa-giessen.de
SUMMARY:Die Nacht der Waller - Jugend
DESCRIPTION:Wir treffen uns zum Wallerangeln am VSA See.
URL:https://www.vsa-giessen.de/event/die-nacht-der-waller-jugend/
LOCATION:VSA Angelsee Heuchelheim\, 50.56783\, 8.628472
CATEGORIES:VSA Jugendgruppe
ATTACH;FMTTYPE=image/jpeg:https://www.vsa-giessen.de/wp-content/uploads/2023/08/20230726_183625-scaled.jpg
END:VEVENT
BEGIN:VEVENT
DTSTART;TZID=Europe/Berlin:20260822T170000
DTEND;TZID=Europe/Berlin:20260823T150000
DTSTAMP:20260421T113524
CREATED:20260208T123807Z
LAST-MODIFIED:20260208T124146Z
UID:620-1787418000-1787497200@www.vsa-giessen.de
SUMMARY:Hegefischen am VSA See
DESCRIPTION:Wir werden auch dieses Jahr wieder ein Hegefischen auf Wels an unserem See durchführen.\nBei dieser Veranstaltung muss jeder selbst für seine Verpflegung sorgen.\nWir hoffen auf eine rege Teilnahme und dass einige Welse gefangen und\naus dem See entfernt werden können. \nPetri Heil\nEuer Vorstand
URL:https://www.vsa-giessen.de/event/hegefischen-auf-wels/
LOCATION:VSA Angelsee Heuchelheim\, 50.56783\, 8.628472
CATEGORIES:VSA Erwachsene,VSA Event,VSA Jugendgruppe
ATTACH;FMTTYPE=image/jpeg:https://www.vsa-giessen.de/wp-content/uploads/2022/11/20220730_121721-scaled.jpg
END:VEVENT
BEGIN:VEVENT
DTSTART;TZID=Europe/Berlin:20260829T150000
DTEND;TZID=Europe/Berlin:20260830T120000
DTSTAMP:20260421T113524
CREATED:20231117T090911Z
LAST-MODIFIED:20260102T210534Z
UID:946-1788015600-1788091200@www.vsa-giessen.de
SUMMARY:Karpfen Camp beim ASV Butzbach e.V. - Jugend
DESCRIPTION:Der ASV Butzbach e.V. lädt uns zu seinem diesjährigen Jugend Karpfen Camp an ihrem Vereinsteich in Butzbach – Griedel ein. Der Teich ist gut besetzt mit Karpfen\, Schleien\, Weißfischen\, Barschen und Hechten. Auf dem Teichgelände befindet sich eine Schutzhütte\, nur wenige Meter entfernt ist das Anglerheim mit Versammlungsraum\, Küche und WCs. Die Veranstaltung beginnt am Samstag um 15:00Uhr und endet am Sonntag ebenfalls gegen 12:00Uhr. Für Verpflegung und Getränke wird gesorgt. \nNach der Abfahrt von der Landstraße zwischen Griedel und Gambach ist gleich links der Parkplatz des ASV Butzbach. Hier treffen wir uns (nicht an den Garagen am VSA See!).
URL:https://www.vsa-giessen.de/event/karpfen-camp-beim-asv-butzbach/
LOCATION:ASV Butzbach e.V. Teich & Vereinsheim\, CPW6+W6 Butzbach\, Deutschland
CATEGORIES:VSA Jugendgruppe
ATTACH;FMTTYPE=image/jpeg:https://www.vsa-giessen.de/wp-content/uploads/2023/11/teich_griedel_1-980x370-1.jpg
ORGANIZER;CN="VSA Jugendgruppe":MAILTO:jugendpflege@vsa-giessen.de
END:VEVENT
BEGIN:VEVENT
DTSTART;TZID=Europe/Berlin:20260912T090000
DTEND;TZID=Europe/Berlin:20260912T200000
DTSTAMP:20260421T113524
CREATED:20250313T095004Z
LAST-MODIFIED:20260102T210607Z
UID:1366-1789203600-1789243200@www.vsa-giessen.de
SUMMARY:Wallerangeln am Main - Jugend
DESCRIPTION:Auch in diesem Jahr werden wir mit der Jugendgruppe die Frankfurter Fischer- und Schifferzunft besuchen. Die Zunft wurde im Jahre 945 (nein\, da fehlt keine Eins!) gegründet.\nWir werden im Bereich der Offenbacher Schleuse angeln. Die Strömung ist dort nicht sehr stark\, ihr könnt mit Futterkörbchen oder Grundblei von 30g – 50g fischen\, oder einem toten Köderfisch\, z.B. einer Grundel\, auf Grund. Beim Feedern auf Friedfische oder Barben laufen Made\, Wurm oder Mais als Köder sehr gut. Spinnfischen auf Räuber ist ebenfalls erfolgreich. Mit 11cm – 13cm Gummifischen und schweren Jigköpfen lassen sich Welse (meist ~1\,2m lang)\, der eine oder andere Rapfen überlisten. Es gibt auch sehr große Barsche im Main\, so um die 45cm\, die werden aber meistens erst im Winter gefangen.\nWir treffen uns morgens am VSA See bei den Garagen\, fahren gemeinsam nach Frankfurt\, angeln\, danach fahren wir zu einem Grundstück der Zunft in der Nähe und lassen den Tag bei Gegrilltem und Getränken ausklingen. Falls ihr beim Angeln merkt\, dass Euch noch etwas fehlen sollte\, die Offenbacher Filiale von Askari ist auf der anderen Mainseite und bis 16:00Uhr geöffnet. In der Nähe der Schleuse sind ein Aldi-\, Lidl- und ein Getränkemarkt\, falls ihr über den Tag etwas zu essen oder zu trinken kaufen möchtet. \nDie Frankfurter Fischerzunft stellt uns die Tageskarten für die Jugendlichen und Betreuer kostenfrei zur Verfügung. Vielen lieben Dank dafür!\nDamit sie die Karten für uns ausstellen können benötige ich vorab von jedem Teilnehmer den vollen Namen und Anschrift\, bitte per E-Mail an jugendpflege@vsa-giessen.de oder per WhatsApp an mich. \nAblauf der Veranstaltung\n\n09:00Uhr: Abfahrt an den Garagen am VSA See\n10:00Uhr: Treffen am Main mit der Fischerzunft\, Ansprache\, Ausgabe der Angelkarten\, Details zum Ablauf und Verhaltensregeln\nAngeln\, Angeln\, Angeln\n13:00Uhr: Mittagspause. Ob beim Angeln oder ob wir irgendwo hingehen entscheiden wir gemeinsam vor Ort\nAngeln\, Angeln\, Angeln\n17:00Uhr: Grillen im Osthafen\n19:00Uhr: Heimreise\n\nCheckliste (bitte mitbringen)\n\nAngelpapiere (ganz wichtig!)\nRuten\, Rodpot oder Rutenständer\, Kescher\nKöder\, Futter und Kunstköder\nZubehör\, Hakenlöser\, Fischtöter\, Bandmaß und Waage\, sofern vorhanden\nWechselkleidung\, der Witterung entsprechend\nGetränke und Essen für zwischendurch\nEtwas Geld\nBecher\, Teller und Besteck fürs Abendessen\n\n 
URL:https://www.vsa-giessen.de/event/wallerangeln-am-main-jugend/
LOCATION:Main bei Offenbacher Schleuse\, Franziusstraße 20\, 60314 Frankfurt am Main
CATEGORIES:VSA Jugendgruppe
ATTACH;FMTTYPE=image/jpeg:https://www.vsa-giessen.de/wp-content/uploads/2023/11/Main_Offenbach.jpg
END:VEVENT
BEGIN:VEVENT
DTSTART;TZID=Europe/Berlin:20261017T094500
DTEND;TZID=Europe/Berlin:20261017T140000
DTSTAMP:20260421T113524
CREATED:20260208T120859Z
LAST-MODIFIED:20260208T125038Z
UID:1384-1792230300-1792245600@www.vsa-giessen.de
SUMMARY:4. Arbeitseinsatz 2026
DESCRIPTION:Dieser Arbeitseinsatz findet am VSA See statt. \nDie Einladung erfolgt\, wie gewohnt\, per E-Mail bzw. Post.
URL:https://www.vsa-giessen.de/event/4-arbeitseinsatz-2025/
LOCATION:VSA Angelsee Heuchelheim\, 50.56783\, 8.628472
CATEGORIES:VSA Arbeitseinsatz
END:VEVENT
BEGIN:VEVENT
DTSTART;TZID=Europe/Berlin:20261024T094500
DTEND;TZID=Europe/Berlin:20261024T140000
DTSTAMP:20260421T113524
CREATED:20260208T123052Z
LAST-MODIFIED:20260208T125227Z
UID:1390-1792835100-1792850400@www.vsa-giessen.de
SUMMARY:5. Arbeitseinsatz 2026
DESCRIPTION:Dieser Arbeitseinsatz findet in Roth statt. \nDie Einladung erfolgt\, wie gewohnt\, per E-Mail bzw. Post.
URL:https://www.vsa-giessen.de/event/5-arbeitseinsatz-2025-option-1/
LOCATION:Lahn zwischen Wolfshausen und Bellnhausen\, PPGG+547 Weimar (Lahn)\, Hessen\, Germany
CATEGORIES:VSA Arbeitseinsatz
END:VEVENT
BEGIN:VEVENT
DTSTART;TZID=Europe/Berlin:20261212T140000
DTEND;TZID=Europe/Berlin:20261212T160000
DTSTAMP:20260421T113524
CREATED:20250313T092854Z
LAST-MODIFIED:20260102T210700Z
UID:961-1797084000-1797091200@www.vsa-giessen.de
SUMMARY:Jahresabschluss - Jugend
DESCRIPTION:Die Jugendgruppe trifft sich\, um einen Rückblick auf das vergangene Jahr zu werfen\, zu wichteln und einen Ausblick auf die Veranstaltungen im kommenden Jahr zu machen.
URL:https://www.vsa-giessen.de/event/jahresabschluss-2025-jugend/
LOCATION:Vereinsheim\, Kornblumenstraße 20\, Gießen\, Hessen\, 35396\, Deutschland
CATEGORIES:VSA Jugendgruppe
ATTACH;FMTTYPE=image/jpeg:https://www.vsa-giessen.de/wp-content/uploads/2024/01/20231209_114034-scaled.jpg
ORGANIZER;CN="VSA Jugendgruppe":MAILTO:jugendpflege@vsa-giessen.de
END:VEVENT
END:VCALENDAR